BEGIN:VCALENDAR
VERSION:2.0
PRODID:-//Kilby Historic Site - ECPv6.15.12.2//NONSGML v1.0//EN
CALSCALE:GREGORIAN
METHOD:PUBLISH
X-ORIGINAL-URL:https://kilby.ca
X-WR-CALDESC:Events for Kilby Historic Site
REFRESH-INTERVAL;VALUE=DURATION:PT1H
X-Robots-Tag:noindex
X-PUBLISHED-TTL:PT1H
BEGIN:VTIMEZONE
TZID:America/Vancouver
BEGIN:DAYLIGHT
TZOFFSETFROM:-0800
TZOFFSETTO:-0700
TZNAME:PDT
DTSTART:20230312T100000
END:DAYLIGHT
BEGIN:STANDARD
TZOFFSETFROM:-0700
TZOFFSETTO:-0800
TZNAME:PST
DTSTART:20231105T090000
END:STANDARD
BEGIN:DAYLIGHT
TZOFFSETFROM:-0800
TZOFFSETTO:-0700
TZNAME:PDT
DTSTART:20240310T100000
END:DAYLIGHT
BEGIN:STANDARD
TZOFFSETFROM:-0700
TZOFFSETTO:-0800
TZNAME:PST
DTSTART:20241103T090000
END:STANDARD
BEGIN:DAYLIGHT
TZOFFSETFROM:-0800
TZOFFSETTO:-0700
TZNAME:PDT
DTSTART:20250309T100000
END:DAYLIGHT
BEGIN:STANDARD
TZOFFSETFROM:-0700
TZOFFSETTO:-0800
TZNAME:PST
DTSTART:20251102T090000
END:STANDARD
END:VTIMEZONE
BEGIN:VEVENT
DTSTART;TZID=America/Vancouver:20241215T130000
DTEND;TZID=America/Vancouver:20241215T180000
DTSTAMP:20260424T033749
CREATED:20240515T221500Z
LAST-MODIFIED:20241009T181716Z
UID:10000025-1734267600-1734285600@kilby.ca
SUMMARY:Christmas by the Railway
DESCRIPTION:Special weekend hours!!! Join us for a rare and magical opportunity to visit the Kilby Historic Site as the sun sets and the lamps are lit. Visit our toymaker in his workshop and write Father Christmas a letter. Make a tree ornament. Taste a fresh ginger cookie. Experience the wonder of a Christmas past!
URL:https://kilby.ca/program/christmas-by-the-railway/2024-12-15/
LOCATION:Kilby Historic Site\, 215 Kilby Road\, Harrison Mills\, BC\, V0M 1L0\, Canada
CATEGORIES:Christmas,Special Event
ATTACH;FMTTYPE=image/jpeg:https://kilby.ca/wp-content/uploads/2024/05/Christmas-by-the-Railway-scaled-e1720031762290.jpg
ORGANIZER;CN="Kilby Historic Site":MAILTO:info@kilby.ca
GEO:49.2357375;-121.9568993
X-APPLE-STRUCTURED-LOCATION;VALUE=URI;X-ADDRESS=Kilby Historic Site 215 Kilby Road Harrison Mills BC V0M 1L0 Canada;X-APPLE-RADIUS=500;X-TITLE=215 Kilby Road:geo:-121.9568993,49.2357375
END:VEVENT
BEGIN:VEVENT
DTSTART;TZID=America/Vancouver:20241214T130000
DTEND;TZID=America/Vancouver:20241214T180000
DTSTAMP:20260424T033749
CREATED:20240515T221500Z
LAST-MODIFIED:20241009T181716Z
UID:10000024-1734181200-1734199200@kilby.ca
SUMMARY:Christmas by the Railway
DESCRIPTION:Special weekend hours!!! Join us for a rare and magical opportunity to visit the Kilby Historic Site as the sun sets and the lamps are lit. Visit our toymaker in his workshop and write Father Christmas a letter. Make a tree ornament. Taste a fresh ginger cookie. Experience the wonder of a Christmas past!
URL:https://kilby.ca/program/christmas-by-the-railway/2024-12-14/
LOCATION:Kilby Historic Site\, 215 Kilby Road\, Harrison Mills\, BC\, V0M 1L0\, Canada
CATEGORIES:Christmas,Special Event
ATTACH;FMTTYPE=image/jpeg:https://kilby.ca/wp-content/uploads/2024/05/Christmas-by-the-Railway-scaled-e1720031762290.jpg
ORGANIZER;CN="Kilby Historic Site":MAILTO:info@kilby.ca
GEO:49.2357375;-121.9568993
X-APPLE-STRUCTURED-LOCATION;VALUE=URI;X-ADDRESS=Kilby Historic Site 215 Kilby Road Harrison Mills BC V0M 1L0 Canada;X-APPLE-RADIUS=500;X-TITLE=215 Kilby Road:geo:-121.9568993,49.2357375
END:VEVENT
BEGIN:VEVENT
DTSTART;TZID=America/Vancouver:20241208T130000
DTEND;TZID=America/Vancouver:20241208T180000
DTSTAMP:20260424T033749
CREATED:20240515T221500Z
LAST-MODIFIED:20241009T181716Z
UID:10000023-1733662800-1733680800@kilby.ca
SUMMARY:Christmas by the Railway
DESCRIPTION:Special weekend hours!!! Join us for a rare and magical opportunity to visit the Kilby Historic Site as the sun sets and the lamps are lit. Visit our toymaker in his workshop and write Father Christmas a letter. Make a tree ornament. Taste a fresh ginger cookie. Experience the wonder of a Christmas past!
URL:https://kilby.ca/program/christmas-by-the-railway/2024-12-08/
LOCATION:Kilby Historic Site\, 215 Kilby Road\, Harrison Mills\, BC\, V0M 1L0\, Canada
CATEGORIES:Christmas,Special Event
ATTACH;FMTTYPE=image/jpeg:https://kilby.ca/wp-content/uploads/2024/05/Christmas-by-the-Railway-scaled-e1720031762290.jpg
ORGANIZER;CN="Kilby Historic Site":MAILTO:info@kilby.ca
GEO:49.2357375;-121.9568993
X-APPLE-STRUCTURED-LOCATION;VALUE=URI;X-ADDRESS=Kilby Historic Site 215 Kilby Road Harrison Mills BC V0M 1L0 Canada;X-APPLE-RADIUS=500;X-TITLE=215 Kilby Road:geo:-121.9568993,49.2357375
END:VEVENT
BEGIN:VEVENT
DTSTART;TZID=America/Vancouver:20241207T130000
DTEND;TZID=America/Vancouver:20241207T180000
DTSTAMP:20260424T033749
CREATED:20240515T221500Z
LAST-MODIFIED:20241009T181716Z
UID:10000022-1733576400-1733594400@kilby.ca
SUMMARY:Christmas by the Railway
DESCRIPTION:Special weekend hours!!! Join us for a rare and magical opportunity to visit the Kilby Historic Site as the sun sets and the lamps are lit. Visit our toymaker in his workshop and write Father Christmas a letter. Make a tree ornament. Taste a fresh ginger cookie. Experience the wonder of a Christmas past!
URL:https://kilby.ca/program/christmas-by-the-railway/2024-12-07/
LOCATION:Kilby Historic Site\, 215 Kilby Road\, Harrison Mills\, BC\, V0M 1L0\, Canada
CATEGORIES:Christmas,Special Event
ATTACH;FMTTYPE=image/jpeg:https://kilby.ca/wp-content/uploads/2024/05/Christmas-by-the-Railway-scaled-e1720031762290.jpg
ORGANIZER;CN="Kilby Historic Site":MAILTO:info@kilby.ca
GEO:49.2357375;-121.9568993
X-APPLE-STRUCTURED-LOCATION;VALUE=URI;X-ADDRESS=Kilby Historic Site 215 Kilby Road Harrison Mills BC V0M 1L0 Canada;X-APPLE-RADIUS=500;X-TITLE=215 Kilby Road:geo:-121.9568993,49.2357375
END:VEVENT
BEGIN:VEVENT
DTSTART;TZID=America/Vancouver:20241026T200000
DTEND;TZID=America/Vancouver:20241026T220000
DTSTAMP:20260424T033749
CREATED:20240515T213038Z
LAST-MODIFIED:20241009T181941Z
UID:10000009-1729972800-1729980000@kilby.ca
SUMMARY:Bumps in the Night
DESCRIPTION:Join the Cornerstone Supernatural team to search for spirit activity in known hot spots of our 1906 general store and hotel. Discover the haunted side of the Kilby Historic Site! \nTickets can be purchased here: https://kilby.ca/product-category/event_tickets/ \nWith over 120 years of history\, the General Store is the last standing building of a once thriving community. Hundreds of people have walked through her doors. Our investigators have found evidence that some are still with us! \nInvestigators will be set up in various ‘known-to-be’ haunted hot-spots in the Store and Hotel. After an explanation of their equipment\, you will get a chance to discover if there is an active spooky side to our site. Your tour will visit four areas in the Museum/Hotel\, and one on the grounds. Warm-up refreshments will be provided (hot apple cider and sweet treats). \nPlease note that the evening is not recommended for youth under 10 years of age. All minors must be accompanied by an adult. \nPart of the tour will take place outdoors so please dress appropriately and wear outdoor footwear. There will be some periods of walking outdoors on uneven ground.
URL:https://kilby.ca/program/bumps-in-the-night/2024-10-26/2/
LOCATION:Kilby Historic Site\, 215 Kilby Road\, Harrison Mills\, BC\, V0M 1L0\, Canada
ATTACH;FMTTYPE=image/jpeg:https://kilby.ca/wp-content/uploads/2024/05/Bumps-in-the-Night-2-scaled-e1720031949758.jpg
ORGANIZER;CN="Kilby Historic Site":MAILTO:info@kilby.ca
GEO:49.2357375;-121.9568993
X-APPLE-STRUCTURED-LOCATION;VALUE=URI;X-ADDRESS=Kilby Historic Site 215 Kilby Road Harrison Mills BC V0M 1L0 Canada;X-APPLE-RADIUS=500;X-TITLE=215 Kilby Road:geo:-121.9568993,49.2357375
END:VEVENT
BEGIN:VEVENT
DTSTART;TZID=America/Vancouver:20241026T180000
DTEND;TZID=America/Vancouver:20241026T200000
DTSTAMP:20260424T033749
CREATED:20240515T213038Z
LAST-MODIFIED:20241009T181941Z
UID:10000008-1729965600-1729972800@kilby.ca
SUMMARY:Bumps in the Night
DESCRIPTION:Join the Cornerstone Supernatural team to search for spirit activity in known hot spots of our 1906 general store and hotel. Discover the haunted side of the Kilby Historic Site! \nTickets can be purchased here: https://kilby.ca/product-category/event_tickets/ \nWith over 120 years of history\, the General Store is the last standing building of a once thriving community. Hundreds of people have walked through her doors. Our investigators have found evidence that some are still with us! \nInvestigators will be set up in various ‘known-to-be’ haunted hot-spots in the Store and Hotel. After an explanation of their equipment\, you will get a chance to discover if there is an active spooky side to our site. Your tour will visit four areas in the Museum/Hotel\, and one on the grounds. Warm-up refreshments will be provided (hot apple cider and sweet treats). \nPlease note that the evening is not recommended for youth under 10 years of age. All minors must be accompanied by an adult. \nPart of the tour will take place outdoors so please dress appropriately and wear outdoor footwear. There will be some periods of walking outdoors on uneven ground.
URL:https://kilby.ca/program/bumps-in-the-night/2024-10-26/1/
LOCATION:Kilby Historic Site\, 215 Kilby Road\, Harrison Mills\, BC\, V0M 1L0\, Canada
ATTACH;FMTTYPE=image/jpeg:https://kilby.ca/wp-content/uploads/2024/05/Bumps-in-the-Night-2-scaled-e1720031949758.jpg
ORGANIZER;CN="Kilby Historic Site":MAILTO:info@kilby.ca
GEO:49.2357375;-121.9568993
X-APPLE-STRUCTURED-LOCATION;VALUE=URI;X-ADDRESS=Kilby Historic Site 215 Kilby Road Harrison Mills BC V0M 1L0 Canada;X-APPLE-RADIUS=500;X-TITLE=215 Kilby Road:geo:-121.9568993,49.2357375
END:VEVENT
BEGIN:VEVENT
DTSTART;TZID=America/Vancouver:20241026T110000
DTEND;TZID=America/Vancouver:20241026T150000
DTSTAMP:20260424T033749
CREATED:20240515T220129Z
LAST-MODIFIED:20241009T181539Z
UID:10000011-1729940400-1729954800@kilby.ca
SUMMARY:Halloween Event
DESCRIPTION:Join us for a family-friendly “slight-fright” Halloween. Come in costume and bring a treat bag. Visit the hair-raising hotel\, the graveyard of puns\, and try our bone-chilling challenges for some extra sweet treats!
URL:https://kilby.ca/program/halloween-event/
LOCATION:Kilby Historic Site\, 215 Kilby Road\, Harrison Mills\, BC\, V0M 1L0\, Canada
CATEGORIES:Halloween
ATTACH;FMTTYPE=image/jpeg:https://kilby.ca/wp-content/uploads/2024/05/Kilby-Halloween-Event-2-scaled-e1720032009474.jpg
ORGANIZER;CN="Kilby Historic Site":MAILTO:info@kilby.ca
GEO:49.2357375;-121.9568993
X-APPLE-STRUCTURED-LOCATION;VALUE=URI;X-ADDRESS=Kilby Historic Site 215 Kilby Road Harrison Mills BC V0M 1L0 Canada;X-APPLE-RADIUS=500;X-TITLE=215 Kilby Road:geo:-121.9568993,49.2357375
END:VEVENT
BEGIN:VEVENT
DTSTART;TZID=America/Vancouver:20241025T180000
DTEND;TZID=America/Vancouver:20241025T200000
DTSTAMP:20260424T033749
CREATED:20240515T213038Z
LAST-MODIFIED:20241009T181941Z
UID:10000007-1729879200-1729886400@kilby.ca
SUMMARY:Bumps in the Night
DESCRIPTION:Join the Cornerstone Supernatural team to search for spirit activity in known hot spots of our 1906 general store and hotel. Discover the haunted side of the Kilby Historic Site! \nTickets can be purchased here: https://kilby.ca/product-category/event_tickets/ \nWith over 120 years of history\, the General Store is the last standing building of a once thriving community. Hundreds of people have walked through her doors. Our investigators have found evidence that some are still with us! \nInvestigators will be set up in various ‘known-to-be’ haunted hot-spots in the Store and Hotel. After an explanation of their equipment\, you will get a chance to discover if there is an active spooky side to our site. Your tour will visit four areas in the Museum/Hotel\, and one on the grounds. Warm-up refreshments will be provided (hot apple cider and sweet treats). \nPlease note that the evening is not recommended for youth under 10 years of age. All minors must be accompanied by an adult. \nPart of the tour will take place outdoors so please dress appropriately and wear outdoor footwear. There will be some periods of walking outdoors on uneven ground.
URL:https://kilby.ca/program/bumps-in-the-night/2024-10-25/
LOCATION:Kilby Historic Site\, 215 Kilby Road\, Harrison Mills\, BC\, V0M 1L0\, Canada
ATTACH;FMTTYPE=image/jpeg:https://kilby.ca/wp-content/uploads/2024/05/Bumps-in-the-Night-2-scaled-e1720031949758.jpg
ORGANIZER;CN="Kilby Historic Site":MAILTO:info@kilby.ca
GEO:49.2357375;-121.9568993
X-APPLE-STRUCTURED-LOCATION;VALUE=URI;X-ADDRESS=Kilby Historic Site 215 Kilby Road Harrison Mills BC V0M 1L0 Canada;X-APPLE-RADIUS=500;X-TITLE=215 Kilby Road:geo:-121.9568993,49.2357375
END:VEVENT
BEGIN:VEVENT
DTSTART;TZID=America/Vancouver:20241013T110000
DTEND;TZID=America/Vancouver:20241013T150000
DTSTAMP:20260424T033749
CREATED:20240515T212332Z
LAST-MODIFIED:20241009T180229Z
UID:10000006-1728817200-1728831600@kilby.ca
SUMMARY:Thanksgiving Weekend
DESCRIPTION:Experience all that Kilby has to offer this Thanksgiving! From apple pressing demonstrations and tasty samples to a Sunday morning pet blessing! Regular café service will be available. Immerse yourself in the sights and sounds of the harvest season. \nSaturday\, October 12th:  \n11AM-3PM – Apple Pressing Demonstrations & Samples \nSunday\, October 13th: *OPEN EARLY! BRING YOUR PETS \n10AM-11:30AM – Pet Blessing Service – During this service\, Reverend Philip Barker will bless all creatures great and small. \n11AM-3PM – Apple Pressing Demonstrations & Samples
URL:https://kilby.ca/program/thanksgiving-weekend-2/2024-10-13/
LOCATION:Kilby Historic Site\, 215 Kilby Road\, Harrison Mills\, BC\, V0M 1L0\, Canada
CATEGORIES:Special Event,Thanksgiving
ATTACH;FMTTYPE=image/jpeg:https://kilby.ca/wp-content/uploads/2024/05/Kilby-Thanksgiving-Weekend-2-scaled-e1720032149255.jpg
ORGANIZER;CN="Kilby Historic Site":MAILTO:info@kilby.ca
GEO:49.2357375;-121.9568993
X-APPLE-STRUCTURED-LOCATION;VALUE=URI;X-ADDRESS=Kilby Historic Site 215 Kilby Road Harrison Mills BC V0M 1L0 Canada;X-APPLE-RADIUS=500;X-TITLE=215 Kilby Road:geo:-121.9568993,49.2357375
END:VEVENT
BEGIN:VEVENT
DTSTART;TZID=America/Vancouver:20241012T110000
DTEND;TZID=America/Vancouver:20241012T150000
DTSTAMP:20260424T033749
CREATED:20240515T212332Z
LAST-MODIFIED:20241009T180229Z
UID:10000005-1728730800-1728745200@kilby.ca
SUMMARY:Thanksgiving Weekend
DESCRIPTION:Experience all that Kilby has to offer this Thanksgiving! From apple pressing demonstrations and tasty samples to a Sunday morning pet blessing! Regular café service will be available. Immerse yourself in the sights and sounds of the harvest season. \nSaturday\, October 12th:  \n11AM-3PM – Apple Pressing Demonstrations & Samples \nSunday\, October 13th: *OPEN EARLY! BRING YOUR PETS \n10AM-11:30AM – Pet Blessing Service – During this service\, Reverend Philip Barker will bless all creatures great and small. \n11AM-3PM – Apple Pressing Demonstrations & Samples
URL:https://kilby.ca/program/thanksgiving-weekend-2/2024-10-12/
LOCATION:Kilby Historic Site\, 215 Kilby Road\, Harrison Mills\, BC\, V0M 1L0\, Canada
CATEGORIES:Special Event,Thanksgiving
ATTACH;FMTTYPE=image/jpeg:https://kilby.ca/wp-content/uploads/2024/05/Kilby-Thanksgiving-Weekend-2-scaled-e1720032149255.jpg
ORGANIZER;CN="Kilby Historic Site":MAILTO:info@kilby.ca
GEO:49.2357375;-121.9568993
X-APPLE-STRUCTURED-LOCATION;VALUE=URI;X-ADDRESS=Kilby Historic Site 215 Kilby Road Harrison Mills BC V0M 1L0 Canada;X-APPLE-RADIUS=500;X-TITLE=215 Kilby Road:geo:-121.9568993,49.2357375
END:VEVENT
BEGIN:VEVENT
DTSTART;TZID=America/Vancouver:20240922T130000
DTEND;TZID=America/Vancouver:20240922T153000
DTSTAMP:20260424T033749
CREATED:20240515T211458Z
LAST-MODIFIED:20240829T211241Z
UID:10000004-1727010000-1727019000@kilby.ca
SUMMARY:Historic Workshops - Honey Spice Cake & Mittens
DESCRIPTION:This Historic Workshop is designed for individuals aged 10 and up. Pre-registration required. \nWhile your honey cake rests\, sew a pair of felt mitts for chilly fall days. \nSpace is limited. Reserve early. $45/person. Buy tickets online here or call 604-491-4932.
URL:https://kilby.ca/program/historic-workshops-honey-spice-cake-mittens/
LOCATION:Kilby Historic Site\, 215 Kilby Road\, Harrison Mills\, BC\, V0M 1L0\, Canada
CATEGORIES:Heritage Skills Workshops,Programming
ATTACH;FMTTYPE=image/jpeg:https://kilby.ca/wp-content/uploads/2024/05/2023-May_19-scaled-e1720032062517.jpg
ORGANIZER;CN="Kilby Historic Site":MAILTO:info@kilby.ca
GEO:49.2357375;-121.9568993
X-APPLE-STRUCTURED-LOCATION;VALUE=URI;X-ADDRESS=Kilby Historic Site 215 Kilby Road Harrison Mills BC V0M 1L0 Canada;X-APPLE-RADIUS=500;X-TITLE=215 Kilby Road:geo:-121.9568993,49.2357375
END:VEVENT
BEGIN:VEVENT
DTSTART;TZID=America/Vancouver:20240922T100000
DTEND;TZID=America/Vancouver:20240922T120000
DTSTAMP:20260424T033749
CREATED:20240515T210210Z
LAST-MODIFIED:20240829T211218Z
UID:10000002-1726999200-1727006400@kilby.ca
SUMMARY:Historic Workshops - Doughnuts & Cocoa
DESCRIPTION:This Historic Workshop is designed for individuals aged 10 and up. Pre-registration required. \nEdwardians loved doughnuts! Mix\, bake\, and fry spiced doughnuts to enjoy with a rich cup of made-from-scratch cocoa. \nSpace is limited. Reserve early. $45/person. Buy tickets online here or call 604-491-4932.
URL:https://kilby.ca/program/historic-workshops-doughnuts-cocoa/
LOCATION:Kilby Historic Site\, 215 Kilby Road\, Harrison Mills\, BC\, V0M 1L0\, Canada
CATEGORIES:Heritage Skills Workshops,Programming
ATTACH;FMTTYPE=image/jpeg:https://kilby.ca/wp-content/uploads/2024/05/Kilby-May-2022_18-scaled-e1720032445337.jpg
ORGANIZER;CN="Kilby Historic Site":MAILTO:info@kilby.ca
GEO:49.2357375;-121.9568993
X-APPLE-STRUCTURED-LOCATION;VALUE=URI;X-ADDRESS=Kilby Historic Site 215 Kilby Road Harrison Mills BC V0M 1L0 Canada;X-APPLE-RADIUS=500;X-TITLE=215 Kilby Road:geo:-121.9568993,49.2357375
END:VEVENT
END:VCALENDAR