BEGIN:VCALENDAR
VERSION:2.0
PRODID:-//Kilby Historic Site - ECPv6.15.12.2//NONSGML v1.0//EN
CALSCALE:GREGORIAN
METHOD:PUBLISH
X-ORIGINAL-URL:https://kilby.ca
X-WR-CALDESC:Events for Kilby Historic Site
REFRESH-INTERVAL;VALUE=DURATION:PT1H
X-Robots-Tag:noindex
X-PUBLISHED-TTL:PT1H
BEGIN:VTIMEZONE
TZID:America/Vancouver
BEGIN:DAYLIGHT
TZOFFSETFROM:-0800
TZOFFSETTO:-0700
TZNAME:PDT
DTSTART:20250309T100000
END:DAYLIGHT
BEGIN:STANDARD
TZOFFSETFROM:-0700
TZOFFSETTO:-0800
TZNAME:PST
DTSTART:20251102T090000
END:STANDARD
BEGIN:DAYLIGHT
TZOFFSETFROM:-0800
TZOFFSETTO:-0700
TZNAME:PDT
DTSTART:20260308T100000
END:DAYLIGHT
BEGIN:STANDARD
TZOFFSETFROM:-0700
TZOFFSETTO:-0800
TZNAME:PST
DTSTART:20261101T090000
END:STANDARD
BEGIN:DAYLIGHT
TZOFFSETFROM:-0800
TZOFFSETTO:-0700
TZNAME:PDT
DTSTART:20270314T100000
END:DAYLIGHT
BEGIN:STANDARD
TZOFFSETFROM:-0700
TZOFFSETTO:-0800
TZNAME:PST
DTSTART:20271107T090000
END:STANDARD
END:VTIMEZONE
BEGIN:VEVENT
DTSTART;TZID=America/Vancouver:20260621T110000
DTEND;TZID=America/Vancouver:20260621T150000
DTSTAMP:20260424T033702
CREATED:20260310T213046Z
LAST-MODIFIED:20260311T203104Z
UID:10000210-1782039600-1782054000@kilby.ca
SUMMARY:Father's Day
DESCRIPTION:This father’s day make memories at the Kilby Historic Site. “With your fist holding tight to the string of your kite”. Make a kite and send it soaring! A perfect day for Dads of all ages. Regular admission rates apply.
URL:https://kilby.ca/program/fathers-day-2026/
LOCATION:Kilby Historic Site\, 215 Kilby Road\, Harrison Mills\, BC\, V0M 1L0\, Canada
CATEGORIES:Special Event
ATTACH;FMTTYPE=image/jpeg:https://kilby.ca/wp-content/uploads/2026/03/2025-July-Bissett-Family_50-scaled-e1773178925618.jpg
ORGANIZER;CN="Kilby Historic Site":MAILTO:info@kilby.ca
GEO:49.2357375;-121.9568993
X-APPLE-STRUCTURED-LOCATION;VALUE=URI;X-ADDRESS=Kilby Historic Site 215 Kilby Road Harrison Mills BC V0M 1L0 Canada;X-APPLE-RADIUS=500;X-TITLE=215 Kilby Road:geo:-121.9568993,49.2357375
END:VEVENT
END:VCALENDAR